BEGIN:VCALENDAR
VERSION:2.0
PRODID:-//Blue Goose TX - ECPv4.4.5//NONSGML v1.0//EN
CALSCALE:GREGORIAN
METHOD:PUBLISH
X-WR-CALNAME:Blue Goose TX
X-ORIGINAL-URL:https://www.bluegoosetx.org
X-WR-CALDESC:Events for Blue Goose TX
BEGIN:VEVENT
DTSTART;TZID=UTC-4:20170213T173000
DTEND;TZID=UTC-4:20170213T193000
DTSTAMP:20260424T050605
CREATED:20170123T195009Z
LAST-MODIFIED:20180326T182447Z
UID:92-1487007000-1487014200@www.bluegoosetx.org
SUMMARY:2nd Initiation
DESCRIPTION:Provide New Member Folders
URL:https://www.bluegoosetx.org/event/2nd-initiation/
END:VEVENT
END:VCALENDAR