BEGIN:VCALENDAR
VERSION:2.0
PRODID:-//Blue Goose TX - ECPv4.4.5//NONSGML v1.0//EN
CALSCALE:GREGORIAN
METHOD:PUBLISH
X-WR-CALNAME:Blue Goose TX
X-ORIGINAL-URL:https://www.bluegoosetx.org
X-WR-CALDESC:Events for Blue Goose TX
BEGIN:VEVENT
DTSTART;TZID=UTC-4:20180102T173000
DTEND;TZID=UTC-4:20180102T190000
DTSTAMP:20260422T235042
CREATED:20170517T161317Z
LAST-MODIFIED:20171125T191152Z
UID:305-1514914200-1514919600@www.bluegoosetx.org
SUMMARY:Texas Pond Executive Officer Meeting
DESCRIPTION:
URL:https://www.bluegoosetx.org/event/texas-pond-executive-officer-meeting-6/
END:VEVENT
END:VCALENDAR