BEGIN:VCALENDAR
VERSION:2.0
PRODID:-//Blue Goose TX - ECPv4.4.5//NONSGML v1.0//EN
CALSCALE:GREGORIAN
METHOD:PUBLISH
X-WR-CALNAME:Blue Goose TX
X-ORIGINAL-URL:https://www.bluegoosetx.org
X-WR-CALDESC:Events for Blue Goose TX
BEGIN:VEVENT
DTSTART;TZID=UTC-4:20170911T173000
DTEND;TZID=UTC-4:20170911T190000
DTSTAMP:20260423T103634
CREATED:20170517T160134Z
LAST-MODIFIED:20171213T162926Z
UID:288-1505151000-1505156400@www.bluegoosetx.org
SUMMARY:Texas Pond Meeting - On The Border in Addison
DESCRIPTION:Charity focus:  Donations Collections for the Family Place
URL:https://www.bluegoosetx.org/event/texas-pond-meeting-border-addison-2/
END:VEVENT
END:VCALENDAR