BEGIN:VCALENDAR
VERSION:2.0
PRODID:-//Blue Goose TX - ECPv4.4.5//NONSGML v1.0//EN
CALSCALE:GREGORIAN
METHOD:PUBLISH
X-WR-CALNAME:Blue Goose TX
X-ORIGINAL-URL:https://www.bluegoosetx.org
X-WR-CALDESC:Events for Blue Goose TX
BEGIN:VEVENT
DTSTART;TZID=UTC-4:20170313T173000
DTEND;TZID=UTC-4:20170313T193000
DTSTAMP:20260424T024716
CREATED:20170123T195113Z
LAST-MODIFIED:20180326T182243Z
UID:94-1489426200-1489433400@www.bluegoosetx.org
SUMMARY:Charity: Easter Baskets Fill for The Family Place
DESCRIPTION:
URL:https://www.bluegoosetx.org/event/charity-easter-baskets-fill-family-place/
END:VEVENT
END:VCALENDAR