BEGIN:VCALENDAR
VERSION:2.0
PRODID:-//Blue Goose TX - ECPv4.4.5//NONSGML v1.0//EN
CALSCALE:GREGORIAN
METHOD:PUBLISH
X-WR-CALNAME:Blue Goose TX
X-ORIGINAL-URL:https://www.bluegoosetx.org
X-WR-CALDESC:Events for Blue Goose TX
BEGIN:VEVENT
DTSTART;VALUE=DATE:20170710
DTEND;VALUE=DATE:20170714
DTSTAMP:20260423T213716
CREATED:20170517T154954Z
LAST-MODIFIED:20180215T171707Z
UID:274-1499644800-1500076799@www.bluegoosetx.org
SUMMARY:2017 Grand Nest Convention
DESCRIPTION:
URL:https://www.bluegoosetx.org/event/grand-nest-convention/
LOCATION:2 W Bay St\, Savannah\, GA\, 31401\, United States
END:VEVENT
BEGIN:VEVENT
DTSTART;VALUE=DATE:20170711
DTEND;VALUE=DATE:20170714
DTSTAMP:20260423T213716
CREATED:20170123T201813Z
LAST-MODIFIED:20180215T170303Z
UID:102-1499731200-1500076799@www.bluegoosetx.org
SUMMARY:Southern Regional Convention
DESCRIPTION:The Southern Region Convention will be held at the Hyatt Regency Savannah located on River Street in Savannah. We are still in the early planning stages of the convention. Being surrounded by history is what the Savannah experience is about. Walking and exploring the parks\, gardens\, squares\, museums and the historical sites will be an experience you cannot miss.\n\nYou can arrive a day or two early or stay a couple days after the convention to explore all that Savannah the surrounding area has to offer. You will not be disappointed.\n\nIf you would like to learn more about the event please view our flyer below.\n\nMore Info
URL:https://www.bluegoosetx.org/event/southern-regional-convention/
LOCATION:2 W Bay St\, Savannah\, GA\, 31401\, United States
ATTACH;FMTTYPE=image/png:/wp-content/uploads/2017/01/positive_BGLogo_twocolor_final_.png
END:VEVENT
END:VCALENDAR