BEGIN:VCALENDAR
VERSION:2.0
PRODID:-//Blue Goose TX - ECPv4.4.5//NONSGML v1.0//EN
CALSCALE:GREGORIAN
METHOD:PUBLISH
X-WR-CALNAME:Blue Goose TX
X-ORIGINAL-URL:https://www.bluegoosetx.org
X-WR-CALDESC:Events for Blue Goose TX
BEGIN:VEVENT
DTSTART;TZID=UTC-4:20170731T113000
DTEND;TZID=UTC-4:20170731T163000
DTSTAMP:20260423T201233
CREATED:20170517T155635Z
LAST-MODIFIED:20171213T171832Z
UID:280-1501500600-1501518600@www.bluegoosetx.org
SUMMARY:Texas Pond Executive Half Day Meeting
DESCRIPTION:
URL:https://www.bluegoosetx.org/event/texas-pond-executive-half-day-meeting/
END:VEVENT
END:VCALENDAR