BEGIN:VCALENDAR
VERSION:2.0
PRODID:-//Blue Goose TX - ECPv4.4.5//NONSGML v1.0//EN
CALSCALE:GREGORIAN
METHOD:PUBLISH
X-WR-CALNAME:Blue Goose TX
X-ORIGINAL-URL:https://www.bluegoosetx.org
X-WR-CALDESC:Events for Blue Goose TX
BEGIN:VEVENT
DTSTART;TZID=UTC-4:20170814T173000
DTEND;TZID=UTC-4:20170814T190000
DTSTAMP:20260423T201237
CREATED:20170517T155909Z
LAST-MODIFIED:20171213T163334Z
UID:284-1502731800-1502737200@www.bluegoosetx.org
SUMMARY:Texas Pond Meeting - On The Border in Addison
DESCRIPTION:Charity focus:  School supplies for Community Partners of Dallas
URL:https://www.bluegoosetx.org/event/texas-pond-meeting-border-addison/
END:VEVENT
END:VCALENDAR