BEGIN:VCALENDAR
VERSION:2.0
PRODID:-//Blue Goose TX - ECPv4.4.5//NONSGML v1.0//EN
CALSCALE:GREGORIAN
METHOD:PUBLISH
X-WR-CALNAME:Blue Goose TX
X-ORIGINAL-URL:https://www.bluegoosetx.org
X-WR-CALDESC:Events for Blue Goose TX
BEGIN:VEVENT
DTSTART;TZID=UTC-4:20170905T173000
DTEND;TZID=UTC-4:20170905T190000
DTSTAMP:20260423T184543
CREATED:20170517T160024Z
LAST-MODIFIED:20171213T163217Z
UID:286-1504632600-1504638000@www.bluegoosetx.org
SUMMARY:Texas Pond Executive Officer Meeting
DESCRIPTION:
URL:https://www.bluegoosetx.org/event/texas-pond-executive-officer-meeting-2/
END:VEVENT
END:VCALENDAR