BEGIN:VCALENDAR
VERSION:2.0
PRODID:-//Blue Goose TX - ECPv4.4.5//NONSGML v1.0//EN
CALSCALE:GREGORIAN
METHOD:PUBLISH
X-WR-CALNAME:Blue Goose TX
X-ORIGINAL-URL:https://www.bluegoosetx.org
X-WR-CALDESC:Events for Blue Goose TX
BEGIN:VEVENT
DTSTART;TZID=UTC-4:20171009T173000
DTEND;TZID=UTC-4:20171009T190000
DTSTAMP:20260423T171226
CREATED:20170517T160329Z
LAST-MODIFIED:20171125T192035Z
UID:292-1507570200-1507575600@www.bluegoosetx.org
SUMMARY:Texas Pond Meeting - On The Border in Addison
DESCRIPTION:
URL:https://www.bluegoosetx.org/event/texas-pond-meeting-border-addison-3/
END:VEVENT
END:VCALENDAR