BEGIN:VCALENDAR
VERSION:2.0
PRODID:-//Blue Goose TX - ECPv4.4.5//NONSGML v1.0//EN
CALSCALE:GREGORIAN
METHOD:PUBLISH
X-WR-CALNAME:Blue Goose TX
X-ORIGINAL-URL:https://www.bluegoosetx.org
X-WR-CALDESC:Events for Blue Goose TX
BEGIN:VEVENT
DTSTART;TZID=UTC-4:20171013T080000
DTEND;TZID=UTC-4:20171013T170000
DTSTAMP:20260423T170924
CREATED:20170517T160815Z
LAST-MODIFIED:20171125T191918Z
UID:294-1507881600-1507914000@www.bluegoosetx.org
SUMMARY:*Cancelled* 12th Annual Charity Golf Tournament
DESCRIPTION:DUE TO HURRICANES HARVEY\, IRMA AND MARIA THE HOBGI-TEXAS POND 12TH ANNUAL GOLF TOURNAMENT IS BEING CANCELLED. STAY TUNE FOR FURTHER UPDATES.\n\nIF YOU HAVE ANY QUESTIONS PLEASE CONTACT LINDA MEIK\, PMLGG & WIELDER FOR THE TEXAS POND 682-715-5341
URL:https://www.bluegoosetx.org/event/12th-annual-charity-golf-tournament/
END:VEVENT
END:VCALENDAR