BEGIN:VCALENDAR
VERSION:2.0
PRODID:-//Blue Goose TX - ECPv4.4.5//NONSGML v1.0//EN
CALSCALE:GREGORIAN
METHOD:PUBLISH
X-WR-CALNAME:Blue Goose TX
X-ORIGINAL-URL:https://www.bluegoosetx.org
X-WR-CALDESC:Events for Blue Goose TX
BEGIN:VEVENT
DTSTART;TZID=UTC-4:20171113T173000
DTEND;TZID=UTC-4:20171113T190000
DTSTAMP:20260423T155051
CREATED:20170517T161038Z
LAST-MODIFIED:20171125T191640Z
UID:299-1510594200-1510599600@www.bluegoosetx.org
SUMMARY:Texas Pond Meeting - On The Border in Addison
DESCRIPTION:Gosling Initiation\n\nCharity focus:  Toy Drive for Community Partners
URL:https://www.bluegoosetx.org/event/texas-pond-meeting-border-addison-4/
END:VEVENT
END:VCALENDAR