BEGIN:VCALENDAR
VERSION:2.0
PRODID:-//Blue Goose TX - ECPv4.4.5//NONSGML v1.0//EN
CALSCALE:GREGORIAN
METHOD:PUBLISH
X-WR-CALNAME:Blue Goose TX
X-ORIGINAL-URL:https://www.bluegoosetx.org
X-WR-CALDESC:Events for Blue Goose TX
BEGIN:VEVENT
DTSTART;TZID=UTC-4:20180212T173000
DTEND;TZID=UTC-4:20180212T190000
DTSTAMP:20260422T173740
CREATED:20170517T161547Z
LAST-MODIFIED:20171016T183312Z
UID:311-1518456600-1518462000@www.bluegoosetx.org
SUMMARY:Texas Pond meeting – On The Border in Addison
DESCRIPTION:Gosling Initiation
URL:https://www.bluegoosetx.org/event/texas-pond-meeting-border-addison-6/
END:VEVENT
END:VCALENDAR